BEGIN:VCALENDAR
VERSION:2.0
PRODID:-//NOCTI - ECPv6.15.17//NONSGML v1.0//EN
CALSCALE:GREGORIAN
METHOD:PUBLISH
X-WR-CALNAME:NOCTI
X-ORIGINAL-URL:https://www.nocti.org
X-WR-CALDESC:Events for NOCTI
REFRESH-INTERVAL;VALUE=DURATION:PT1H
X-Robots-Tag:noindex
X-PUBLISHED-TTL:PT1H
BEGIN:VTIMEZONE
TZID:UTC
BEGIN:STANDARD
TZOFFSETFROM:+0000
TZOFFSETTO:+0000
TZNAME:UTC
DTSTART:20240101T000000
END:STANDARD
END:VTIMEZONE
BEGIN:VEVENT
DTSTART;VALUE=DATE:20251210
DTEND;VALUE=DATE:20251212
DTSTAMP:20260420T050515
CREATED:20251122T002217Z
LAST-MODIFIED:20251122T002707Z
UID:10000203-1765324800-1765497599@www.nocti.org
SUMMARY:VISION 2025 Bark Park
DESCRIPTION:Visit the Bark Park at VISION 2025—where wagging tails meet CTE! NOCTI is excited to sponsor this fun\, uplifting space featuring adoptable dogs from Proverbs 12:10\, a local shelter. Swing by on Wednesday\, December 10 or Thursday\, December 11 between 11:00 a.m. and 1:00 p.m. to take a break\, meet the pups\, and learn how you might give one a forever home. It’s the happiest corner of the conference!
URL:https://www.nocti.org/event/vision-2025-bark-park/
LOCATION:Gaylord Opryland Resort & Convention Center\, 2800 Opryland Drive\, Nashville\, TN\, 37214\, United States
ATTACH;FMTTYPE=image/jpeg:https://www.nocti.org/wp-content/uploads/2025/11/Bark.Park_.Sponsors.Events.2025.jpg
END:VEVENT
BEGIN:VEVENT
DTSTART;VALUE=DATE:20251209
DTEND;VALUE=DATE:20251213
DTSTAMP:20260420T050515
CREATED:20250926T215042Z
LAST-MODIFIED:20250926T222903Z
UID:10000198-1765238400-1765583999@www.nocti.org
SUMMARY:Credential Corner
DESCRIPTION:Credential Corner is your go-to space to explore how certifications can power career pathways and elevate CTE programs. This exciting area features outstanding partners\, including: \n\nAMTEC\neDynamic\nHBI\nMSSC\nRouxbe\nStratasys\nPHCC\nACF\n\nDon’t miss the fun—join our CTE-themed Poker Run while you’re there. We can’t wait to see you!
URL:https://www.nocti.org/event/credential-corner/
LOCATION:Gaylord Opryland Resort & Convention Center\, 2800 Opryland Drive\, Nashville\, TN\, 37214\, United States
ATTACH;FMTTYPE=image/png:https://www.nocti.org/wp-content/uploads/2025/09/NOCTI-Credential-Corner-Logo-Updated-2024.png
END:VEVENT
BEGIN:VEVENT
DTSTART;VALUE=DATE:20251209
DTEND;VALUE=DATE:20251213
DTSTAMP:20260420T050515
CREATED:20250926T214735Z
LAST-MODIFIED:20251122T000659Z
UID:10000197-1765238400-1765583999@www.nocti.org
SUMMARY:ACTE CareerTech VISION 2025
DESCRIPTION:NOCTI is excited to be part of ACTE’s CareerTech VISION\, December 9–12 in Nashville\, TN! This premier event brings together thousands of CTE educators\, leaders\, and industry partners for hundreds of sessions\, dynamic networking opportunities\, and a vibrant Expo. We look forward to connecting\, sharing\, and collaborating on emerging trends shaping the future of CTE—ranging from rural programming to early-career educator support and justice-involved education. \nThe ACTE program features several NOCTI and NOCTI Partner presentations: \n\nPlugging into the Future: EV Training for a Changing Industry (NOCTI and Legacy EV)\nPerformance Testing in Action: Empowering Learners and Teachers for Success (NOCTI)\nJoin a Flavorful Session Focusing on Culinary Students Success (NOCTI and ACF)\nQuality Credentials on the Music City Stage: CTE Certification Showcase (NOCTI)\n\nBe sure to stop by the NOCTI booth to meet our team—Heidi Speese\, Randi VanHemert\, Lisa Brauher\, Jackie Wernette\, Stacey Jackson\, Amie Bloomfield\, Anne Gielczyk\, and Kathleen McNally. While you’re there\, don’t miss the Credential Corner\, a dynamic space to explore how certifications can strengthen career pathways and elevate CTE programs. \nWe’re also proud to sponsor the Bark Park—a fun\, heartwarming spot to relax and recharge with adoptable dogs from a local animal shelter. It’s the perfect way to connect\, unwind\, and maybe even meet a new furry friend looking for a forever home!
URL:https://www.nocti.org/event/acte-careertech-vision-2025/
LOCATION:Gaylord Opryland Resort & Convention Center\, 2800 Opryland Drive\, Nashville\, TN\, 37214\, United States
ATTACH;FMTTYPE=image/jpeg:https://www.nocti.org/wp-content/uploads/2025/09/VISION.2025.SS_-scaled.jpg
END:VEVENT
END:VCALENDAR