BEGIN:VCALENDAR
VERSION:2.0
PRODID:-//NOCTI - ECPv6.15.20//NONSGML v1.0//EN
CALSCALE:GREGORIAN
METHOD:PUBLISH
X-WR-CALNAME:NOCTI
X-ORIGINAL-URL:https://www.nocti.org
X-WR-CALDESC:Events for NOCTI
REFRESH-INTERVAL;VALUE=DURATION:PT1H
X-Robots-Tag:noindex
X-PUBLISHED-TTL:PT1H
BEGIN:VTIMEZONE
TZID:UTC
BEGIN:STANDARD
TZOFFSETFROM:+0000
TZOFFSETTO:+0000
TZNAME:UTC
DTSTART:20250101T000000
END:STANDARD
END:VTIMEZONE
BEGIN:VEVENT
DTSTART;VALUE=DATE:20260415
DTEND;VALUE=DATE:20260416
DTSTAMP:20260423T073418
CREATED:20260317T173354Z
LAST-MODIFIED:20260317T173354Z
UID:10000208-1776211200-1776297599@www.nocti.org
SUMMARY:Credentialing in the Age of AI Session (RMAIIG)
DESCRIPTION:Erin Maruzzella\, Director of Business Development for NOCTI/Nocti Business Solutions will be presenting at the upcoming Rocky Mountain AI Interest Group (RMAIIG)\, leading a session on “Credentialing in the Age of AI”. This session will frame AI as a tool for building modern credentials\, while also recognizing AI as a skill that must itself be credentialed.  Together\, we will explore what this means for education systems\, hiring practices\, and the implications for workers and employers alike. \nRMAI is dedicated to advancing awareness and expanding opportunities related to AI across the Colorado Rocky Mountain region\, bringing together businesses\, professionals\, and enthusiasts from diverse backgrounds.
URL:https://www.nocti.org/event/credentialing-in-the-age-of-ai-session-rmaiig/
LOCATION:University of Colorado Boulder\, 3775 Discovery Dr.\, Boulder\, CO\, 80303\, United States
ATTACH;FMTTYPE=image/jpeg:https://www.nocti.org/wp-content/uploads/2026/03/RMAIIG.jpg
END:VEVENT
END:VCALENDAR